BEGIN:VCALENDAR
VERSION:2.0
PRODID:-//Trachtenverein Hohenaschau - ECPv6.15.18//NONSGML v1.0//EN
CALSCALE:GREGORIAN
METHOD:PUBLISH
X-ORIGINAL-URL:https://www.trachtenverein-hohenaschau.de
X-WR-CALDESC:Veranstaltungen für Trachtenverein Hohenaschau
REFRESH-INTERVAL;VALUE=DURATION:PT1H
X-Robots-Tag:noindex
X-PUBLISHED-TTL:PT1H
BEGIN:VTIMEZONE
TZID:Europe/Berlin
BEGIN:DAYLIGHT
TZOFFSETFROM:+0100
TZOFFSETTO:+0200
TZNAME:CEST
DTSTART:20240331T010000
END:DAYLIGHT
BEGIN:STANDARD
TZOFFSETFROM:+0200
TZOFFSETTO:+0100
TZNAME:CET
DTSTART:20241027T010000
END:STANDARD
BEGIN:DAYLIGHT
TZOFFSETFROM:+0100
TZOFFSETTO:+0200
TZNAME:CEST
DTSTART:20250330T010000
END:DAYLIGHT
BEGIN:STANDARD
TZOFFSETFROM:+0200
TZOFFSETTO:+0100
TZNAME:CET
DTSTART:20251026T010000
END:STANDARD
BEGIN:DAYLIGHT
TZOFFSETFROM:+0100
TZOFFSETTO:+0200
TZNAME:CEST
DTSTART:20260329T010000
END:DAYLIGHT
BEGIN:STANDARD
TZOFFSETFROM:+0200
TZOFFSETTO:+0100
TZNAME:CET
DTSTART:20261025T010000
END:STANDARD
BEGIN:DAYLIGHT
TZOFFSETFROM:+0100
TZOFFSETTO:+0200
TZNAME:CEST
DTSTART:20270328T010000
END:DAYLIGHT
BEGIN:STANDARD
TZOFFSETFROM:+0200
TZOFFSETTO:+0100
TZNAME:CET
DTSTART:20271031T010000
END:STANDARD
END:VTIMEZONE
BEGIN:VEVENT
DTSTART;TZID=Europe/Berlin:20260410T193000
DTEND;TZID=Europe/Berlin:20260410T193000
DTSTAMP:20260420T073908
CREATED:20251117T071901Z
LAST-MODIFIED:20251117T072142Z
UID:15634-1775849400-1775849400@www.trachtenverein-hohenaschau.de
SUMMARY:Gaufrühjahrsversammlung
DESCRIPTION:Höhenmoos
URL:https://www.trachtenverein-hohenaschau.de/veranstaltung/gaufruehjahrsversammlung-3/
END:VEVENT
BEGIN:VEVENT
DTSTART;TZID=Europe/Berlin:20260331T200000
DTEND;TZID=Europe/Berlin:20260331T200000
DTSTAMP:20260420T073908
CREATED:20251117T073145Z
LAST-MODIFIED:20251117T073145Z
UID:15648-1774987200-1774987200@www.trachtenverein-hohenaschau.de
SUMMARY:Passion
DESCRIPTION:Chiemgau-Alpenverband. St. Peter\, München
URL:https://www.trachtenverein-hohenaschau.de/veranstaltung/passion/
END:VEVENT
BEGIN:VEVENT
DTSTART;TZID=Europe/Berlin:20260327T190000
DTEND;TZID=Europe/Berlin:20260327T190000
DTSTAMP:20260420T073908
CREATED:20251117T073003Z
LAST-MODIFIED:20251117T073156Z
UID:15647-1774638000-1774638000@www.trachtenverein-hohenaschau.de
SUMMARY:Passion
DESCRIPTION:Chiemgau-Alpenverband. Amerang
URL:https://www.trachtenverein-hohenaschau.de/veranstaltung/passion-chiemgau-alpenverband-2/
END:VEVENT
BEGIN:VEVENT
DTSTART;TZID=Europe/Berlin:20260325T190000
DTEND;TZID=Europe/Berlin:20260325T190000
DTSTAMP:20260420T073908
CREATED:20251117T072349Z
LAST-MODIFIED:20251117T073207Z
UID:15645-1774465200-1774465200@www.trachtenverein-hohenaschau.de
SUMMARY:Passion
DESCRIPTION:Chiemgau-Alpenverband. Marquartstein
URL:https://www.trachtenverein-hohenaschau.de/veranstaltung/passion-chiemgau-alpenverband/
END:VEVENT
BEGIN:VEVENT
DTSTART;TZID=Europe/Berlin:20260313T193000
DTEND;TZID=Europe/Berlin:20260313T193000
DTSTAMP:20260420T073908
CREATED:20251117T072302Z
LAST-MODIFIED:20251117T072302Z
UID:15643-1773430200-1773430200@www.trachtenverein-hohenaschau.de
SUMMARY:Präsentation neue Gau-Chronik Chiemgau-Alpenverband
DESCRIPTION:Feldwies
URL:https://www.trachtenverein-hohenaschau.de/veranstaltung/praesentation-neue-gau-chronik-chiemgau-alpenverband/
END:VEVENT
BEGIN:VEVENT
DTSTART;TZID=Europe/Berlin:20260131T180000
DTEND;TZID=Europe/Berlin:20260131T180000
DTSTAMP:20260420T073908
CREATED:20251117T071812Z
LAST-MODIFIED:20251117T072148Z
UID:15633-1769882400-1769882400@www.trachtenverein-hohenaschau.de
SUMMARY:Kirchenpatrozinium
DESCRIPTION:Pfarrkirche Aschau
URL:https://www.trachtenverein-hohenaschau.de/veranstaltung/kirchenpatrozinium-2/
END:VEVENT
BEGIN:VEVENT
DTSTART;TZID=Europe/Berlin:20251213T193000
DTEND;TZID=Europe/Berlin:20251213T193000
DTSTAMP:20260420T073908
CREATED:20250107T134941Z
LAST-MODIFIED:20250623T174721Z
UID:14953-1765654200-1765654200@www.trachtenverein-hohenaschau.de
SUMMARY:Adventshoagascht
DESCRIPTION:Gasthof Brucker
URL:https://www.trachtenverein-hohenaschau.de/veranstaltung/adventshoagascht-2/
END:VEVENT
BEGIN:VEVENT
DTSTART;TZID=Europe/Berlin:20251116T100000
DTEND;TZID=Europe/Berlin:20251116T100000
DTSTAMP:20260420T073908
CREATED:20250107T135022Z
LAST-MODIFIED:20250623T174650Z
UID:14952-1763287200-1763287200@www.trachtenverein-hohenaschau.de
SUMMARY:Kriegerehrung Niederaschau
DESCRIPTION:
URL:https://www.trachtenverein-hohenaschau.de/veranstaltung/kriegerehrung-niederaschau/
END:VEVENT
BEGIN:VEVENT
DTSTART;TZID=Europe/Berlin:20251101T190000
DTEND;TZID=Europe/Berlin:20251101T190000
DTSTAMP:20260420T073908
CREATED:20170220T201647Z
LAST-MODIFIED:20250623T174604Z
UID:4412-1762023600-1762023600@www.trachtenverein-hohenaschau.de
SUMMARY:Kriegerehrung Hohenaschau
DESCRIPTION:
URL:https://www.trachtenverein-hohenaschau.de/veranstaltung/kriegerehrung-2025/
END:VEVENT
BEGIN:VEVENT
DTSTART;TZID=Europe/Berlin:20251024T200000
DTEND;TZID=Europe/Berlin:20251024T200000
DTSTAMP:20260420T073908
CREATED:20170220T201318Z
LAST-MODIFIED:20250623T174133Z
UID:4405-1761336000-1761336000@www.trachtenverein-hohenaschau.de
SUMMARY:Gauball
DESCRIPTION:Ort?
URL:https://www.trachtenverein-hohenaschau.de/veranstaltung/gauball/
END:VEVENT
BEGIN:VEVENT
DTSTART;TZID=Europe/Berlin:20251018T193000
DTEND;TZID=Europe/Berlin:20251018T193000
DTSTAMP:20260420T073908
CREATED:20250107T134838Z
LAST-MODIFIED:20250623T174446Z
UID:14948-1760815800-1760815800@www.trachtenverein-hohenaschau.de
SUMMARY:Generalversammlung
DESCRIPTION:Gasthof Brucker
URL:https://www.trachtenverein-hohenaschau.de/veranstaltung/generalversammlung/
END:VEVENT
BEGIN:VEVENT
DTSTART;TZID=Europe/Berlin:20251017T193000
DTEND;TZID=Europe/Berlin:20251017T193000
DTSTAMP:20260420T073908
CREATED:20170220T201148Z
LAST-MODIFIED:20250623T174417Z
UID:4403-1760729400-1760729400@www.trachtenverein-hohenaschau.de
SUMMARY:Gauherbstversammlung
DESCRIPTION:Hittenkirchen
URL:https://www.trachtenverein-hohenaschau.de/veranstaltung/gauherbstversammlung/
END:VEVENT
BEGIN:VEVENT
DTSTART;TZID=Europe/Berlin:20251005T100000
DTEND;TZID=Europe/Berlin:20251005T100000
DTSTAMP:20260420T073908
CREATED:20170220T195434Z
LAST-MODIFIED:20250623T174346Z
UID:4396-1759658400-1759658400@www.trachtenverein-hohenaschau.de
SUMMARY:Erntedank
DESCRIPTION:Kirche Aschau
URL:https://www.trachtenverein-hohenaschau.de/veranstaltung/erntedank/
END:VEVENT
BEGIN:VEVENT
DTSTART;TZID=Europe/Berlin:20250803T093000
DTEND;TZID=Europe/Berlin:20250803T093000
DTSTAMP:20260420T073908
CREATED:20250107T134440Z
LAST-MODIFIED:20250623T174048Z
UID:14943-1754213400-1754213400@www.trachtenverein-hohenaschau.de
SUMMARY:Gaupreisplattln
DESCRIPTION:Feldwies
URL:https://www.trachtenverein-hohenaschau.de/veranstaltung/gaupreisplattln-2/
END:VEVENT
BEGIN:VEVENT
DTSTART;TZID=Europe/Berlin:20250802T193000
DTEND;TZID=Europe/Berlin:20250802T193000
DTSTAMP:20260420T073908
CREATED:20250107T134404Z
LAST-MODIFIED:20250623T173931Z
UID:14942-1754163000-1754163000@www.trachtenverein-hohenaschau.de
SUMMARY:Festheimatabend "Feldwies Roas"
DESCRIPTION:Feldwies
URL:https://www.trachtenverein-hohenaschau.de/veranstaltung/festheimatabend-feldwies-roas/
END:VEVENT
BEGIN:VEVENT
DTSTART;TZID=Europe/Berlin:20250730T200000
DTEND;TZID=Europe/Berlin:20250730T200000
DTSTAMP:20260420T073908
CREATED:20250107T134155Z
LAST-MODIFIED:20250623T173859Z
UID:14938-1753905600-1753905600@www.trachtenverein-hohenaschau.de
SUMMARY:Chiemgauer-Tanzfest
DESCRIPTION:Feldwies
URL:https://www.trachtenverein-hohenaschau.de/veranstaltung/chiemgauer-tanzfest-2025/
END:VEVENT
BEGIN:VEVENT
DTSTART;TZID=Europe/Berlin:20250727T100000
DTEND;TZID=Europe/Berlin:20250727T100000
DTSTAMP:20260420T073908
CREATED:20250107T134058Z
LAST-MODIFIED:20250623T173832Z
UID:14937-1753610400-1753610400@www.trachtenverein-hohenaschau.de
SUMMARY:Gaufest
DESCRIPTION:Feldwies
URL:https://www.trachtenverein-hohenaschau.de/veranstaltung/gaufest-2/
END:VEVENT
BEGIN:VEVENT
DTSTART;TZID=Europe/Berlin:20250726T200000
DTEND;TZID=Europe/Berlin:20250726T200000
DTSTAMP:20260420T073908
CREATED:20250107T133946Z
LAST-MODIFIED:20250623T173745Z
UID:14936-1753560000-1753560000@www.trachtenverein-hohenaschau.de
SUMMARY:Gauheimatabend
DESCRIPTION:Feldwies
URL:https://www.trachtenverein-hohenaschau.de/veranstaltung/gauheimatabend-2025/
END:VEVENT
BEGIN:VEVENT
DTSTART;TZID=Europe/Berlin:20250725T180000
DTEND;TZID=Europe/Berlin:20250725T180000
DTSTAMP:20260420T073908
CREATED:20250107T133835Z
LAST-MODIFIED:20250623T173655Z
UID:14934-1753466400-1753466400@www.trachtenverein-hohenaschau.de
SUMMARY:Gaudirndldrahn
DESCRIPTION:Feldwies
URL:https://www.trachtenverein-hohenaschau.de/veranstaltung/gaudirndldrahn-2025/
END:VEVENT
BEGIN:VEVENT
DTSTART;TZID=Europe/Berlin:20250713T123000
DTEND;TZID=Europe/Berlin:20250713T123000
DTSTAMP:20260420T073908
CREATED:20250107T133743Z
LAST-MODIFIED:20250623T174311Z
UID:14932-1752409800-1752409800@www.trachtenverein-hohenaschau.de
SUMMARY:6-Vereine Preisplattln
DESCRIPTION:Festhalle
URL:https://www.trachtenverein-hohenaschau.de/veranstaltung/6-vereine-preisplattln/
END:VEVENT
BEGIN:VEVENT
DTSTART;TZID=Europe/Berlin:20250712T180000
DTEND;TZID=Europe/Berlin:20250712T180000
DTSTAMP:20260420T073908
CREATED:20250107T133458Z
LAST-MODIFIED:20250623T173445Z
UID:14927-1752343200-1752343200@www.trachtenverein-hohenaschau.de
SUMMARY:150-Jahrfeier Familie von Cramer-Klett in Aschau
DESCRIPTION:Festhalle
URL:https://www.trachtenverein-hohenaschau.de/veranstaltung/150-jahrfeier-familie-von-cramer-klett-in-aschau/
END:VEVENT
BEGIN:VEVENT
DTSTART;TZID=Europe/Berlin:20250704T183000
DTEND;TZID=Europe/Berlin:20250704T183000
DTSTAMP:20260420T073908
CREATED:20250128T082207Z
LAST-MODIFIED:20250623T174223Z
UID:15003-1751653800-1751653800@www.trachtenverein-hohenaschau.de
SUMMARY:Griabinga Vereinspreisplatteln
DESCRIPTION:Priental-Halle
URL:https://www.trachtenverein-hohenaschau.de/veranstaltung/griabinga-vereinspreisplatteln/
END:VEVENT
BEGIN:VEVENT
DTSTART;TZID=Europe/Berlin:20250622T100000
DTEND;TZID=Europe/Berlin:20250623T000000
DTSTAMP:20260420T073908
CREATED:20250107T133600Z
LAST-MODIFIED:20250107T140946Z
UID:14930-1750586400-1750636800@www.trachtenverein-hohenaschau.de
SUMMARY:Festsonntag\, 130-Jahre GTEV Prien
DESCRIPTION:Festzelt am Hohertinger Weg\, Prien am Chiemsee
URL:https://www.trachtenverein-hohenaschau.de/veranstaltung/festsonntag-130-jahre-gtev-prien/
END:VEVENT
BEGIN:VEVENT
DTSTART;TZID=Europe/Berlin:20250620T200000
DTEND;TZID=Europe/Berlin:20250621T000000
DTSTAMP:20260420T073908
CREATED:20250107T133342Z
LAST-MODIFIED:20250107T140925Z
UID:14924-1750449600-1750464000@www.trachtenverein-hohenaschau.de
SUMMARY:Festabend\, 130-Jahre GTEV Prien
DESCRIPTION:Festzelt am Hohertinger Weg\, Prien am Chiemsee
URL:https://www.trachtenverein-hohenaschau.de/veranstaltung/festabend-130-jahre-gtev-prien/
END:VEVENT
BEGIN:VEVENT
DTSTART;TZID=Europe/Berlin:20250619T090000
DTEND;TZID=Europe/Berlin:20250619T110000
DTSTAMP:20260420T073908
CREATED:20250107T133251Z
LAST-MODIFIED:20250107T140058Z
UID:14923-1750323600-1750330800@www.trachtenverein-hohenaschau.de
SUMMARY:Fronleichnam
DESCRIPTION:Kurpark
URL:https://www.trachtenverein-hohenaschau.de/veranstaltung/fronleichnam-2/
END:VEVENT
BEGIN:VEVENT
DTSTART;TZID=Europe/Berlin:20250531T190000
DTEND;TZID=Europe/Berlin:20250601T000000
DTSTAMP:20260420T073908
CREATED:20250107T133017Z
LAST-MODIFIED:20250107T133017Z
UID:14915-1748718000-1748736000@www.trachtenverein-hohenaschau.de
SUMMARY:Vereinsjahrtag
DESCRIPTION:Schlosskapelle
URL:https://www.trachtenverein-hohenaschau.de/veranstaltung/vereinsjahrtag-2/
END:VEVENT
BEGIN:VEVENT
DTSTART;TZID=Europe/Berlin:20250529T093000
DTEND;TZID=Europe/Berlin:20250529T120000
DTSTAMP:20260420T073908
CREATED:20250107T132922Z
LAST-MODIFIED:20250107T140107Z
UID:14914-1748511000-1748520000@www.trachtenverein-hohenaschau.de
SUMMARY:Wallfahrt nach Raiten
DESCRIPTION:7:45 Uhr Abfahrt Bus ab Wasserfall
URL:https://www.trachtenverein-hohenaschau.de/veranstaltung/wallfahrt-nach-raiten/
END:VEVENT
BEGIN:VEVENT
DTSTART;TZID=Europe/Berlin:20250517T190000
DTEND;TZID=Europe/Berlin:20250518T000000
DTSTAMP:20260420T073908
CREATED:20250107T132639Z
LAST-MODIFIED:20250107T132639Z
UID:14913-1747508400-1747526400@www.trachtenverein-hohenaschau.de
SUMMARY:13. Maibockfest
DESCRIPTION:Vereinsstadel Wasserthal
URL:https://www.trachtenverein-hohenaschau.de/veranstaltung/13-maibockfest/
END:VEVENT
BEGIN:VEVENT
DTSTART;TZID=Europe/Berlin:20250425T193000
DTEND;TZID=Europe/Berlin:20250425T220000
DTSTAMP:20260420T073908
CREATED:20250106T200853Z
LAST-MODIFIED:20250107T135859Z
UID:14888-1745609400-1745618400@www.trachtenverein-hohenaschau.de
SUMMARY:Gaufrühjahrsversammlung
DESCRIPTION:Atzing
URL:https://www.trachtenverein-hohenaschau.de/veranstaltung/gaufruehjahrsversammlung-2/
END:VEVENT
BEGIN:VEVENT
DTSTART;VALUE=DATE:20250412
DTEND;VALUE=DATE:20250414
DTSTAMP:20260420T073908
CREATED:20170220T195634Z
LAST-MODIFIED:20250106T201613Z
UID:4400-1744416000-1744549200@www.trachtenverein-hohenaschau.de
SUMMARY:Vereinsausflug am Brombachsee
DESCRIPTION:Abfahrt Festhalle: 7:00 Uhr
URL:https://www.trachtenverein-hohenaschau.de/veranstaltung/vereinsausflug-2025/
END:VEVENT
END:VCALENDAR